BEGIN:VCALENDAR
VERSION:2.0
PRODID:-//Gjessø.dk - ECPv6.15.7//NONSGML v1.0//EN
CALSCALE:GREGORIAN
METHOD:PUBLISH
X-ORIGINAL-URL:https://gjesso.dk
X-WR-CALDESC:Begivenheder for Gjessø.dk
REFRESH-INTERVAL;VALUE=DURATION:PT1H
X-Robots-Tag:noindex
X-PUBLISHED-TTL:PT1H
BEGIN:VTIMEZONE
TZID:UTC
BEGIN:STANDARD
TZOFFSETFROM:+0000
TZOFFSETTO:+0000
TZNAME:UTC
DTSTART:20220101T000000
END:STANDARD
END:VTIMEZONE
BEGIN:VEVENT
DTSTART;TZID=UTC:20230228T190000
DTEND;TZID=UTC:20230228T210000
DTSTAMP:20260421T101049
CREATED:20230214T163954Z
LAST-MODIFIED:20230214T163954Z
UID:3294-1677610800-1677618000@gjesso.dk
SUMMARY:Forsamlingshusets generalforsamling
DESCRIPTION:Dagsorden for den årlige ordinære generalforsamling skal indeholde:1. Valg af dirigent.2. Beretning fra det forløbne år.3. Det reviderede regnskab forelægges til godkendelse.4. Indkomne forslag: Opsætning af nyt loft i troldtekt5. Valg af stemmetæller(e)6. Valg af medlemmer og evt. suppleanter til bestyrelsen7. Valg af revisor(er) og revisor suppleant.8. Eventuelt
URL:https://gjesso.dk/event/forsamlingshusets-generalforsamling/
ATTACH;FMTTYPE=image/jpeg:https://gjesso.dk/wp-content/uploads/2020/01/News_default_featured_image.jpg
END:VEVENT
END:VCALENDAR