BEGIN:VCALENDAR
VERSION:2.0
PRODID:-//Gjessø.dk - ECPv6.15.7//NONSGML v1.0//EN
CALSCALE:GREGORIAN
METHOD:PUBLISH
X-WR-CALNAME:Gjessø.dk
X-ORIGINAL-URL:https://gjesso.dk
X-WR-CALDESC:Begivenheder for Gjessø.dk
REFRESH-INTERVAL;VALUE=DURATION:PT1H
X-Robots-Tag:noindex
X-PUBLISHED-TTL:PT1H
BEGIN:VTIMEZONE
TZID:UTC
BEGIN:STANDARD
TZOFFSETFROM:+0000
TZOFFSETTO:+0000
TZNAME:UTC
DTSTART:20220101T000000
END:STANDARD
END:VTIMEZONE
BEGIN:VEVENT
DTSTART;TZID=UTC:20230308T190000
DTEND;TZID=UTC:20230308T220000
DTSTAMP:20260420T210236
CREATED:20230120T124723Z
LAST-MODIFIED:20230228T214138Z
UID:3206-1678302000-1678312800@gjesso.dk
SUMMARY:Borgermøde AFLYST - Fremtidens varmeforsyning i Gjessø
DESCRIPTION:GRUNDET ET FORVENTET LAVT DELTAGERANTAL TIL BORGERMØDET\, HAR GJESSØ LOKALRÅD – BLA. AF RESPEKT FOR INDLÆGSHOLDERNES TID – VALGT AT AFLYSE ARRANGEMENTET.\n\nEMNET TAGES OP PÅ LOKALRÅDETS GENERALFORSAMLING D. 29. MARTS.\nGjessø Lokalråd afholder borgermøde om fremtidens varmeforsyning i Gjessø \nAFLYST onsdag d. 8. marts kl. 19 i Gjessø Forsamlingshus. \nDet er desværre afgjort\, og Silkeborg Kommune har besluttet\, at Gjessø ikke skal tilbydes fjernvarme fra Silkeborg Forsyning. \nHvorfor ikke og hvad så? – De spørgsmål m.fl. stiller Silkeborg Kommune (bl.a. ved udvalgsformand for Klima og Miljøudvalget Rune Kristensen) op for at besvare på mødet. \nMen er fjernvarme i Gjessø nu alligevel dødt? – Ikke hvis man spørger Stig Caspersen fra &GreenProjecs – der er muligheder. Stig vil på borgermødet holde et indlæg om\, hvordan et fælles fjernevarmeprojekt kan realiseres. \nNår vi nærmer os dagen for borgermødet\, vil vi offentliggøre en mere præcis agenda for mødet. Men sæt X i kalenderen allerede nu. \n/Gjessø Lokalråd \n 
URL:https://gjesso.dk/event/borgermoede-fremtidens-varmeforsyning-i-gjessoe/
CATEGORIES:Gjessø generelt,Lokalrådet
END:VEVENT
END:VCALENDAR