BEGIN:VCALENDAR
VERSION:2.0
PRODID:-//Gjessø.dk - ECPv6.15.7//NONSGML v1.0//EN
CALSCALE:GREGORIAN
METHOD:PUBLISH
X-ORIGINAL-URL:https://gjesso.dk
X-WR-CALDESC:Begivenheder for Gjessø.dk
REFRESH-INTERVAL;VALUE=DURATION:PT1H
X-Robots-Tag:noindex
X-PUBLISHED-TTL:PT1H
BEGIN:VTIMEZONE
TZID:UTC
BEGIN:STANDARD
TZOFFSETFROM:+0000
TZOFFSETTO:+0000
TZNAME:UTC
DTSTART:20230101T000000
END:STANDARD
END:VTIMEZONE
BEGIN:VEVENT
DTSTART;TZID=UTC:20240320T190000
DTEND;TZID=UTC:20240320T213000
DTSTAMP:20260424T105952
CREATED:20240312T190225Z
LAST-MODIFIED:20240312T190225Z
UID:3587-1710961200-1710970200@gjesso.dk
SUMMARY:Generalforsamling i Gjessø Grundejerforening
DESCRIPTION:
URL:https://gjesso.dk/event/generalforsamling-i-gjessoe-grundejerforening/
CATEGORIES:Grundejerforeningen
ATTACH;FMTTYPE=image/jpeg:https://gjesso.dk/wp-content/uploads/2020/01/News_default_featured_image.jpg
END:VEVENT
END:VCALENDAR